BEGIN:VCALENDAR
VERSION:2.0
PRODID:-//Genetické zdroje rostlin v České republice - ECPv6.15.20//NONSGML v1.0//EN
CALSCALE:GREGORIAN
METHOD:PUBLISH
X-WR-CALNAME:Genetické zdroje rostlin v České republice
X-ORIGINAL-URL:https://www.gzr.cz
X-WR-CALDESC:Akce na Genetické zdroje rostlin v České republice
REFRESH-INTERVAL;VALUE=DURATION:PT1H
X-Robots-Tag:noindex
X-PUBLISHED-TTL:PT1H
BEGIN:VTIMEZONE
TZID:Europe/Prague
BEGIN:DAYLIGHT
TZOFFSETFROM:+0100
TZOFFSETTO:+0200
TZNAME:CEST
DTSTART:20250330T010000
END:DAYLIGHT
BEGIN:STANDARD
TZOFFSETFROM:+0200
TZOFFSETTO:+0100
TZNAME:CET
DTSTART:20251026T010000
END:STANDARD
BEGIN:DAYLIGHT
TZOFFSETFROM:+0100
TZOFFSETTO:+0200
TZNAME:CEST
DTSTART:20260329T010000
END:DAYLIGHT
BEGIN:STANDARD
TZOFFSETFROM:+0200
TZOFFSETTO:+0100
TZNAME:CET
DTSTART:20261025T010000
END:STANDARD
BEGIN:DAYLIGHT
TZOFFSETFROM:+0100
TZOFFSETTO:+0200
TZNAME:CEST
DTSTART:20270328T010000
END:DAYLIGHT
BEGIN:STANDARD
TZOFFSETFROM:+0200
TZOFFSETTO:+0100
TZNAME:CET
DTSTART:20271031T010000
END:STANDARD
END:VTIMEZONE
BEGIN:VEVENT
DTSTART;TZID=Europe/Prague:20260421T090000
DTEND;TZID=Europe/Prague:20260517T170000
DTSTAMP:20260423T115142
CREATED:20260422T050017Z
LAST-MODIFIED:20260422T050017Z
UID:3131-1776762000-1779037200@www.gzr.cz
SUMMARY:Tulipány 2026
DESCRIPTION:V roce 2026 je opět otevřena tradiční výstava tulipánů\, pro kterou je vysazeno více než 140 odrůd z různých skupin (včetně genetických zdrojů rostlin z kolekcí NPGZR). Výstavu doplňují informační tabule se zajímavostmi o pěstování\, vývoji a šlechtění tulipánů. Podrobnosti naleznete zde.
URL:https://www.gzr.cz/event/tulipany-2026/
LOCATION:Dendrologická zahrada\, Za Dálnicí 146\, Průhonice\, 252 43\, Czech Republic
END:VEVENT
END:VCALENDAR